BEGIN:VCALENDAR
VERSION:2.0
PRODID:icalendar-ruby
CALSCALE:GREGORIAN
METHOD:PUBLISH
BEGIN:VEVENT
DTSTAMP:20260421T205242Z
UID:176-2904636@ladnerlife.com
DTSTART:20231220T030000Z
DTEND:20231220T040000Z
CLASS:PUBLIC
CREATED:20260421T134050
DESCRIPTION:Youth Night
LAST-MODIFIED:20260421T134050
LOCATION:
SUMMARY:Youth Night
URL;VALUE=URI:https://www.ladnerlife.com/events/youth-night--176/2023-12-19
END:VEVENT
END:VCALENDAR
