BEGIN:VCALENDAR
VERSION:2.0
PRODID:icalendar-ruby
CALSCALE:GREGORIAN
METHOD:PUBLISH
BEGIN:VEVENT
DTSTAMP:20260422T175218Z
UID:201-2910826@ladnerlife.com
DTSTART:20250827T161500Z
DTEND:20250827T174500Z
CLASS:PUBLIC
CREATED:20260422T090356
DESCRIPTION:
LAST-MODIFIED:20260422T090356
LOCATION:
SUMMARY:Playgroup for Caregivers and Kids
URL;VALUE=URI:https://www.ladnerlife.com/events/playgroup-for-caregivers-an
 d-kids/2025-08-27
ATTACH;FILENAME=Playgroup Slide (1).jpg;FMTTYPE=image/jpeg:https://dq5pwpg1
 q8ru0.cloudfront.net/2023/10/14/10/23/50/8f40f491-d344-4daf-8253-20acd6789
 cb8/Playgroup%20Slide%20(1).jpg
END:VEVENT
END:VCALENDAR
